BEGIN:VCALENDAR
VERSION:2.0
PRODID:-//Sunnyside Community Services - ECPv6.3.1//NONSGML v1.0//EN
CALSCALE:GREGORIAN
METHOD:PUBLISH
X-ORIGINAL-URL:https://scsny.org
X-WR-CALDESC:Events for Sunnyside Community Services
REFRESH-INTERVAL;VALUE=DURATION:PT1H
X-Robots-Tag:noindex
X-PUBLISHED-TTL:PT1H
BEGIN:VTIMEZONE
TZID:America/New_York
BEGIN:DAYLIGHT
TZOFFSETFROM:-0500
TZOFFSETTO:-0400
TZNAME:EDT
DTSTART:20250309T070000
END:DAYLIGHT
BEGIN:STANDARD
TZOFFSETFROM:-0400
TZOFFSETTO:-0500
TZNAME:EST
DTSTART:20251102T060000
END:STANDARD
END:VTIMEZONE
BEGIN:VEVENT
DTSTART;TZID=America/New_York:20251108T150000
DTEND;TZID=America/New_York:20251108T170000
DTSTAMP:20260419T165045
CREATED:20251008T205826Z
LAST-MODIFIED:20251010T200116Z
UID:10007100-1762614000-1762621200@scsny.org
SUMMARY:The 8th Annual\, Caregiver Gala
DESCRIPTION:Please join us for a special evening celebrating and honoring our caregivers for their hard work and dedication. There will be music\, dancing\, food\, and raffles. Caregivers are invited to bring one guest. Kindly RSVP by Monday\, October 27th\, 2025. \n\n\n\nNote: The Caregiver’s Gala is intended for current clients of the caregiver program. If you aren’t yet registered\, or for more information about the Gala\, please contact: jzarate@scsny.org
URL:https://scsny.org/event/the-8th-annual-caregiver-gala/
LOCATION:Sunnyside Community Services Main Site\, 43-31 39th Street\, Sunnyside\, NY\, 11104\, United States
END:VEVENT
END:VCALENDAR