BEGIN:VCALENDAR
VERSION:2.0
PRODID:-//Sunnyside Community Services - ECPv6.3.1//NONSGML v1.0//EN
CALSCALE:GREGORIAN
METHOD:PUBLISH
X-ORIGINAL-URL:https://scsny.org
X-WR-CALDESC:Events for Sunnyside Community Services
REFRESH-INTERVAL;VALUE=DURATION:PT1H
X-Robots-Tag:noindex
X-PUBLISHED-TTL:PT1H
BEGIN:VTIMEZONE
TZID:America/New_York
BEGIN:DAYLIGHT
TZOFFSETFROM:-0500
TZOFFSETTO:-0400
TZNAME:EDT
DTSTART:20260308T070000
END:DAYLIGHT
BEGIN:STANDARD
TZOFFSETFROM:-0400
TZOFFSETTO:-0500
TZNAME:EST
DTSTART:20261101T060000
END:STANDARD
END:VTIMEZONE
BEGIN:VEVENT
DTSTART;TZID=America/New_York:20260204T120000
DTEND;TZID=America/New_York:20260204T120000
DTSTAMP:20260420T001150
CREATED:20260113T182005Z
LAST-MODIFIED:20260119T225555Z
UID:10007735-1770206400-1770206400@scsny.org
SUMMARY:Sunnyside Up Virtual Information Session
DESCRIPTION:Join our virtual information session to learn more about the Sunnyside UP 3-K and Pre-K programs at Sunnyside Community Services. \n\n\n\nPlease complete the registration form to receive the Zoom link. \n\n\n\nIf you prefer to attend an in-person session\, we are holding an open house on Saturday\, January 24 from 11 am – 1 pm at 39-01 Queens Blvd in Sunnyside\, NY.  \n\n\n\nFor more information\, contact us at 929-335-7795 or info@scsny.org. (Se habla español) \n\n\n\n\n\n\n\n\n\n\n\n\n\n\n\n                \n                        \n                            Sunnyside Up Virtual Information session\n                             \n                        \n                        Name(Required)\n                            \n                            \n                                                    \n                                                    First\n                                                \n                            \n                            \n                                                    \n                                                    Last\n                                                \n                            \n                        Email(Required)\n                                \n                                    \n                                    Enter Email\n                                \n                                \n                                    \n                                    Confirm Email\n                                \n                                \n                            Phone(Required)How did you hear about our program?Social MediaAdvertisementWord of MouthOther
URL:https://scsny.org/event/sunnyside-up-information-session/
LOCATION:Sunnyside Community Services Main Site\, 43-31 39th Street\, Sunnyside\, NY\, 11104\, United States
END:VEVENT
BEGIN:VEVENT
DTSTART;TZID=America/New_York:20260204T120000
DTEND;TZID=America/New_York:20260204T130000
DTSTAMP:20260420T001150
CREATED:20260202T155145Z
LAST-MODIFIED:20260202T155146Z
UID:10007742-1770206400-1770210000@scsny.org
SUMMARY:Pernil (Roasted Pork Shoulder)
DESCRIPTION:Brown Rice with Kidney BeansBrussels Sprouts with Caramelized OnionsLunch in the Older Adult Center is always served with low-fat milk\, bread\, and a piece of whole fruit.
URL:https://scsny.org/event/pernil-roasted-pork-shoulder-4/
LOCATION:Sunnyside Community Services Main Site\, 43-31 39th Street\, Sunnyside\, NY\, 11104\, United States
CATEGORIES:60+ Only,Older Adult Center
END:VEVENT
END:VCALENDAR